Package: crisprScoreData Version: 1.12.0 Command: /home/biocbuild/bbs-3.21-bioc/R/bin/R CMD INSTALL crisprScoreData StartedAt: 2025-10-09 10:57:50 -0400 (Thu, 09 Oct 2025) EndedAt: 2025-10-09 10:58:03 -0400 (Thu, 09 Oct 2025) EllapsedTime: 13.6 seconds RetCode: 0 Status: OK