Package: cnvGSAdata Version: 1.44.0 Command: /home/biocbuild/bbs-3.21-bioc/R/bin/R CMD check --install=check:cnvGSAdata.install-out.txt --library=/home/biocbuild/bbs-3.21-bioc/R/site-library --timings cnvGSAdata_1.44.0.tar.gz StartedAt: 2025-05-22 12:04:01 -0400 (Thu, 22 May 2025) EndedAt: 2025-05-22 12:04:56 -0400 (Thu, 22 May 2025) EllapsedTime: 54.9 seconds RetCode: 0 Status: WARNINGS CheckDir: cnvGSAdata.Rcheck Warnings: 1