Package: chromstaRData Version: 1.33.0 Command: /home/biocbuild/bbs-3.21-bioc/R/bin/R CMD INSTALL chromstaRData StartedAt: 2025-01-30 10:55:28 -0500 (Thu, 30 Jan 2025) EndedAt: 2025-01-30 10:55:31 -0500 (Thu, 30 Jan 2025) EllapsedTime: 2.4 seconds RetCode: 0 Status: OK