Package: chipseqDBData Version: 1.24.0 Command: /home/biocbuild/bbs-3.21-bioc/R/bin/R CMD check --install=check:chipseqDBData.install-out.txt --library=/home/biocbuild/bbs-3.21-bioc/R/site-library --timings chipseqDBData_1.24.0.tar.gz StartedAt: 2025-05-15 12:02:56 -0400 (Thu, 15 May 2025) EndedAt: 2025-05-15 12:05:40 -0400 (Thu, 15 May 2025) EllapsedTime: 164.0 seconds RetCode: 0 Status: OK CheckDir: chipseqDBData.Rcheck Warnings: 0