Package: chipseqDBData Version: 1.23.0 Command: /home/biocbuild/bbs-3.21-bioc/R/bin/R CMD build --keep-empty-dirs --no-resave-data chipseqDBData StartedAt: 2025-02-11 11:09:41 -0500 (Tue, 11 Feb 2025) EndedAt: 2025-02-11 11:10:56 -0500 (Tue, 11 Feb 2025) EllapsedTime: 74.4 seconds RetCode: 0 Status: OK PackageFile: chipseqDBData_1.23.0.tar.gz PackageFileSize: 300.9 KiB