Package: cancerdata Version: 1.45.0 Command: /home/biocbuild/bbs-3.21-bioc/R/bin/R CMD INSTALL cancerdata StartedAt: 2025-01-30 10:56:05 -0500 (Thu, 30 Jan 2025) EndedAt: 2025-01-30 10:56:09 -0500 (Thu, 30 Jan 2025) EllapsedTime: 3.6 seconds RetCode: 0 Status: OK