Package: cancerdata Version: 1.46.0 Command: /home/biocbuild/bbs-3.21-bioc/R/bin/R CMD check --install=check:cancerdata.install-out.txt --library=/home/biocbuild/bbs-3.21-bioc/R/site-library --timings cancerdata_1.46.0.tar.gz StartedAt: 2025-05-22 12:00:12 -0400 (Thu, 22 May 2025) EndedAt: 2025-05-22 12:00:35 -0400 (Thu, 22 May 2025) EllapsedTime: 22.9 seconds RetCode: 0 Status: OK CheckDir: cancerdata.Rcheck Warnings: 0