Package: breakpointRdata Version: 1.26.0 Command: /home/biocbuild/bbs-3.21-bioc/R/bin/R CMD INSTALL breakpointRdata StartedAt: 2025-05-29 10:55:58 -0400 (Thu, 29 May 2025) EndedAt: 2025-05-29 10:56:01 -0400 (Thu, 29 May 2025) EllapsedTime: 3.5 seconds RetCode: 0 Status: OK