Package: breakpointRdata Version: 1.25.0 Command: /home/biocbuild/bbs-3.21-bioc/R/bin/R CMD build --keep-empty-dirs --no-resave-data breakpointRdata StartedAt: 2025-01-30 11:08:18 -0500 (Thu, 30 Jan 2025) EndedAt: 2025-01-30 11:08:35 -0500 (Thu, 30 Jan 2025) EllapsedTime: 17.3 seconds RetCode: 0 Status: OK PackageFile: breakpointRdata_1.25.0.tar.gz PackageFileSize: 69.47 MiB