Package: beta7 Version: 1.46.0 Command: /home/biocbuild/bbs-3.21-bioc/R/bin/R CMD INSTALL beta7 StartedAt: 2025-10-16 10:56:31 -0400 (Thu, 16 Oct 2025) EndedAt: 2025-10-16 10:56:36 -0400 (Thu, 16 Oct 2025) EllapsedTime: 4.3 seconds RetCode: 0 Status: OK