Package: beadarrayExampleData Version: 1.45.0 Command: /home/biocbuild/bbs-3.21-bioc/R/bin/R CMD build --keep-empty-dirs --no-resave-data beadarrayExampleData StartedAt: 2025-01-30 11:07:36 -0500 (Thu, 30 Jan 2025) EndedAt: 2025-01-30 11:08:01 -0500 (Thu, 30 Jan 2025) EllapsedTime: 25.4 seconds RetCode: 0 Status: OK PackageFile: beadarrayExampleData_1.45.0.tar.gz PackageFileSize: 29.96 MiB