Package: antiProfilesData Version: 1.43.0 Command: /home/biocbuild/bbs-3.21-bioc/R/bin/R CMD build --keep-empty-dirs --no-resave-data antiProfilesData StartedAt: 2025-01-30 11:07:24 -0500 (Thu, 30 Jan 2025) EndedAt: 2025-01-30 11:07:25 -0500 (Thu, 30 Jan 2025) EllapsedTime: 1.0 seconds RetCode: 0 Status: OK PackageFile: antiProfilesData_1.43.0.tar.gz PackageFileSize: 2.714 MiB