Package: adductData Version: 1.23.0 Command: /home/biocbuild/bbs-3.21-bioc/R/bin/R CMD INSTALL adductData StartedAt: 2025-01-30 10:57:11 -0500 (Thu, 30 Jan 2025) EndedAt: 2025-01-30 10:57:20 -0500 (Thu, 30 Jan 2025) EllapsedTime: 9.4 seconds RetCode: 0 Status: OK