Package: TargetSearchData Version: 1.46.0 Command: /home/biocbuild/bbs-3.21-bioc/R/bin/R CMD build --keep-empty-dirs --no-resave-data TargetSearchData StartedAt: 2025-09-30 11:41:15 -0400 (Tue, 30 Sep 2025) EndedAt: 2025-09-30 11:41:43 -0400 (Tue, 30 Sep 2025) EllapsedTime: 28.0 seconds RetCode: 0 Status: OK PackageFile: TargetSearchData_1.46.0.tar.gz PackageFileSize: 29.86 MiB