Package: TabulaMurisSenisData Version: 1.13.0 Command: /home/biocbuild/bbs-3.21-bioc/R/bin/R CMD INSTALL TabulaMurisSenisData StartedAt: 2025-02-06 10:59:43 -0500 (Thu, 06 Feb 2025) EndedAt: 2025-02-06 11:00:13 -0500 (Thu, 06 Feb 2025) EllapsedTime: 30.2 seconds RetCode: 0 Status: OK