Package: TabulaMurisSenisData Version: 1.13.0 Command: /home/biocbuild/bbs-3.21-bioc/R/bin/R CMD build --keep-empty-dirs --no-resave-data TabulaMurisSenisData StartedAt: 2025-01-30 11:41:38 -0500 (Thu, 30 Jan 2025) EndedAt: 2025-01-30 11:43:17 -0500 (Thu, 30 Jan 2025) EllapsedTime: 99.1 seconds RetCode: 0 Status: OK PackageFile: TabulaMurisSenisData_1.13.0.tar.gz PackageFileSize: 2.502 MiB