Package: TMExplorer Version: 1.18.0 Command: /home/biocbuild/bbs-3.21-bioc/R/bin/R CMD check --install=check:TMExplorer.install-out.txt --library=/home/biocbuild/bbs-3.21-bioc/R/site-library --timings TMExplorer_1.18.0.tar.gz StartedAt: 2025-05-22 13:05:47 -0400 (Thu, 22 May 2025) EndedAt: 2025-05-22 13:13:06 -0400 (Thu, 22 May 2025) EllapsedTime: 438.5 seconds RetCode: 0 Status: OK CheckDir: TMExplorer.Rcheck Warnings: 0