Package: TENxPBMCData Version: 1.26.0 Command: /home/biocbuild/bbs-3.21-bioc/R/bin/R CMD INSTALL TENxPBMCData StartedAt: 2025-10-16 10:59:56 -0400 (Thu, 16 Oct 2025) EndedAt: 2025-10-16 11:00:26 -0400 (Thu, 16 Oct 2025) EllapsedTime: 30.0 seconds RetCode: 0 Status: OK