Package: SingleMoleculeFootprintingData Version: 1.15.0 Command: /home/biocbuild/bbs-3.21-bioc/R/bin/R CMD build --keep-empty-dirs --no-resave-data SingleMoleculeFootprintingData StartedAt: 2025-01-30 11:40:27 -0500 (Thu, 30 Jan 2025) EndedAt: 2025-01-30 11:40:47 -0500 (Thu, 30 Jan 2025) EllapsedTime: 19.6 seconds RetCode: 0 Status: OK PackageFile: SingleMoleculeFootprintingData_1.15.0.tar.gz PackageFileSize: 20.07 KiB