Package: SVM2CRMdata Version: 1.40.0 Command: /home/biocbuild/bbs-3.21-bioc/R/bin/R CMD INSTALL SVM2CRMdata StartedAt: 2025-05-22 10:55:43 -0400 (Thu, 22 May 2025) EndedAt: 2025-05-22 10:55:50 -0400 (Thu, 22 May 2025) EllapsedTime: 7.3 seconds RetCode: 0 Status: OK