Package: SVM2CRMdata Version: 1.39.0 Command: /home/biocbuild/bbs-3.21-bioc/R/bin/R CMD build --keep-empty-dirs --no-resave-data SVM2CRMdata StartedAt: 2025-01-30 11:41:14 -0500 (Thu, 30 Jan 2025) EndedAt: 2025-01-30 11:44:36 -0500 (Thu, 30 Jan 2025) EllapsedTime: 202.3 seconds RetCode: 0 Status: OK PackageFile: SVM2CRMdata_1.39.0.tar.gz PackageFileSize: 345 MiB