Package: SNAData Version: 1.54.0 Command: /home/biocbuild/bbs-3.21-bioc/R/bin/R CMD build --keep-empty-dirs --no-resave-data SNAData StartedAt: 2025-10-16 11:40:04 -0400 (Thu, 16 Oct 2025) EndedAt: 2025-10-16 11:40:11 -0400 (Thu, 16 Oct 2025) EllapsedTime: 6.4 seconds RetCode: 0 Status: OK PackageFile: SNAData_1.54.0.tar.gz PackageFileSize: 135 KiB