Package: SCLCBam Version: 1.40.0 Command: /home/biocbuild/bbs-3.21-bioc/R/bin/R CMD INSTALL SCLCBam StartedAt: 2025-07-24 10:55:14 -0400 (Thu, 24 Jul 2025) EndedAt: 2025-07-24 10:55:16 -0400 (Thu, 24 Jul 2025) EllapsedTime: 1.8 seconds RetCode: 0 Status: OK