Package: RnaSeqSampleSizeData Version: 1.40.0 Command: /home/biocbuild/bbs-3.21-bioc/R/bin/R CMD INSTALL RnaSeqSampleSizeData StartedAt: 2025-10-02 10:56:41 -0400 (Thu, 02 Oct 2025) EndedAt: 2025-10-02 10:56:44 -0400 (Thu, 02 Oct 2025) EllapsedTime: 2.7 seconds RetCode: 0 Status: OK