Package: RnBeads.mm9 Version: 1.40.0 Command: /home/biocbuild/bbs-3.21-bioc/R/bin/R CMD build --keep-empty-dirs --no-resave-data RnBeads.mm9 StartedAt: 2025-10-16 11:36:12 -0400 (Thu, 16 Oct 2025) EndedAt: 2025-10-16 11:36:20 -0400 (Thu, 16 Oct 2025) EllapsedTime: 7.4 seconds RetCode: 0 Status: OK PackageFile: RnBeads.mm9_1.40.0.tar.gz PackageFileSize: 94.41 MiB