Package: RnBeads.hg19 Version: 1.40.0 Command: /home/biocbuild/bbs-3.21-bioc/R/bin/R CMD INSTALL RnBeads.hg19 StartedAt: 2025-10-14 10:58:45 -0400 (Tue, 14 Oct 2025) EndedAt: 2025-10-14 10:58:53 -0400 (Tue, 14 Oct 2025) EllapsedTime: 7.9 seconds RetCode: 0 Status: OK