Package: RegParallel Version: 1.25.0 Command: /home/biocbuild/bbs-3.21-bioc/R/bin/R CMD INSTALL RegParallel StartedAt: 2025-01-30 11:03:51 -0500 (Thu, 30 Jan 2025) EndedAt: 2025-01-30 11:04:00 -0500 (Thu, 30 Jan 2025) EllapsedTime: 8.5 seconds RetCode: 0 Status: OK