Package: RegParallel Version: 1.25.0 Command: /home/biocbuild/bbs-3.21-bioc/R/bin/R CMD build --keep-empty-dirs --no-resave-data RegParallel StartedAt: 2025-01-30 11:35:41 -0500 (Thu, 30 Jan 2025) EndedAt: 2025-01-30 11:42:18 -0500 (Thu, 30 Jan 2025) EllapsedTime: 396.8 seconds RetCode: 0 Status: OK PackageFile: RegParallel_1.25.0.tar.gz PackageFileSize: 634.6 KiB