Package: RTCGA.RPPA Version: 1.36.0 Command: /home/biocbuild/bbs-3.21-bioc/R/bin/R CMD INSTALL RTCGA.RPPA StartedAt: 2025-10-09 10:58:19 -0400 (Thu, 09 Oct 2025) EndedAt: 2025-10-09 10:58:32 -0400 (Thu, 09 Oct 2025) EllapsedTime: 13.0 seconds RetCode: 0 Status: OK