Package: RITANdata Version: 1.32.0 Command: /home/biocbuild/bbs-3.21-bioc/R/bin/R CMD INSTALL RITANdata StartedAt: 2025-05-20 10:55:28 -0400 (Tue, 20 May 2025) EndedAt: 2025-05-20 10:56:05 -0400 (Tue, 20 May 2025) EllapsedTime: 36.3 seconds RetCode: 0 Status: OK