Package: QUBICdata Version: 1.36.0 Command: /home/biocbuild/bbs-3.21-bioc/R/bin/R CMD INSTALL QUBICdata StartedAt: 2025-05-20 10:57:46 -0400 (Tue, 20 May 2025) EndedAt: 2025-05-20 10:57:47 -0400 (Tue, 20 May 2025) EllapsedTime: 1.3 seconds RetCode: 0 Status: OK