Package: QUBICdata Version: 1.35.0 Command: /home/biocbuild/bbs-3.21-bioc/R/bin/R CMD build --keep-empty-dirs --no-resave-data QUBICdata StartedAt: 2025-01-30 11:34:59 -0500 (Thu, 30 Jan 2025) EndedAt: 2025-01-30 11:35:05 -0500 (Thu, 30 Jan 2025) EllapsedTime: 6.3 seconds RetCode: 0 Status: OK PackageFile: QUBICdata_1.35.0.tar.gz PackageFileSize: 9.848 MiB