Package: QDNAseq.mm10 Version: 1.38.0 Command: /home/biocbuild/bbs-3.21-bioc/R/bin/R CMD INSTALL QDNAseq.mm10 StartedAt: 2025-07-15 11:03:42 -0400 (Tue, 15 Jul 2025) EndedAt: 2025-07-15 11:03:54 -0400 (Tue, 15 Jul 2025) EllapsedTime: 12.1 seconds RetCode: 0 Status: OK