Package: OMICsPCAdata Version: 1.26.0 Command: /home/biocbuild/bbs-3.21-bioc/R/bin/R CMD check --install=check:OMICsPCAdata.install-out.txt --library=/home/biocbuild/bbs-3.21-bioc/R/site-library --timings OMICsPCAdata_1.26.0.tar.gz StartedAt: 2025-05-27 13:40:14 -0400 (Tue, 27 May 2025) EndedAt: 2025-05-27 13:42:04 -0400 (Tue, 27 May 2025) EllapsedTime: 109.3 seconds RetCode: 0 Status: WARNINGS CheckDir: OMICsPCAdata.Rcheck Warnings: 1