Package: OMICsPCAdata Version: 1.25.0 Command: /home/biocbuild/bbs-3.21-bioc/R/bin/R CMD build --keep-empty-dirs --no-resave-data OMICsPCAdata StartedAt: 2025-01-30 11:32:47 -0500 (Thu, 30 Jan 2025) EndedAt: 2025-01-30 11:33:46 -0500 (Thu, 30 Jan 2025) EllapsedTime: 58.1 seconds RetCode: 0 Status: OK PackageFile: OMICsPCAdata_1.25.0.tar.gz PackageFileSize: 42.44 MiB