Package: NestLink Version: 1.24.0 Command: /home/biocbuild/bbs-3.21-bioc/R/bin/R CMD INSTALL NestLink StartedAt: 2025-05-15 11:03:55 -0400 (Thu, 15 May 2025) EndedAt: 2025-05-15 11:04:30 -0400 (Thu, 15 May 2025) EllapsedTime: 34.1 seconds RetCode: 0 Status: OK