Package: NestLink Version: 1.24.0 Maintainer: Lennart Opitz MaintainerEmail: lopitz at fgcz.ethz.ch git_url: https://git.bioconductor.org/packages/NestLink git_branch: RELEASE_3_21 git_last_commit: 886f69b git_last_commit_date: 2025-04-15 10:12:57 -0400 (Tue, 15 Apr 2025)