Package: MouseGastrulationData Version: 1.22.0 Command: /home/biocbuild/bbs-3.21-bioc/R/bin/R CMD INSTALL MouseGastrulationData StartedAt: 2025-10-16 11:04:28 -0400 (Thu, 16 Oct 2025) EndedAt: 2025-10-16 11:04:59 -0400 (Thu, 16 Oct 2025) EllapsedTime: 30.9 seconds RetCode: 0 Status: OK