Package: MouseGastrulationData Version: 1.22.0 Command: /home/biocbuild/bbs-3.21-bioc/R/bin/R CMD build --keep-empty-dirs --no-resave-data MouseGastrulationData StartedAt: 2025-10-16 11:29:20 -0400 (Thu, 16 Oct 2025) EndedAt: 2025-10-16 11:30:40 -0400 (Thu, 16 Oct 2025) EllapsedTime: 80.8 seconds RetCode: 0 Status: OK PackageFile: MouseGastrulationData_1.22.0.tar.gz PackageFileSize: 507.6 KiB