Package: MouseAgingData Version: 1.4.0 Command: /home/biocbuild/bbs-3.21-bioc/R/bin/R CMD build --keep-empty-dirs --no-resave-data MouseAgingData StartedAt: 2025-10-02 11:29:56 -0400 (Thu, 02 Oct 2025) EndedAt: 2025-10-02 11:31:04 -0400 (Thu, 02 Oct 2025) EllapsedTime: 68.0 seconds RetCode: 0 Status: OK PackageFile: MouseAgingData_1.4.0.tar.gz PackageFileSize: 1.347 MiB