Package: MerfishData Version: 1.10.0 Command: /home/biocbuild/bbs-3.21-bioc/R/bin/R CMD build --keep-empty-dirs --no-resave-data MerfishData StartedAt: 2025-09-30 11:27:03 -0400 (Tue, 30 Sep 2025) EndedAt: 2025-09-30 11:35:34 -0400 (Tue, 30 Sep 2025) EllapsedTime: 510.9 seconds RetCode: 0 Status: OK PackageFile: MerfishData_1.10.0.tar.gz PackageFileSize: 24.29 MiB