Package: MOFAdata Version: 1.23.0 Command: /home/biocbuild/bbs-3.21-bioc/R/bin/R CMD build --keep-empty-dirs --no-resave-data MOFAdata StartedAt: 2025-02-06 11:30:09 -0500 (Thu, 06 Feb 2025) EndedAt: 2025-02-06 11:30:48 -0500 (Thu, 06 Feb 2025) EllapsedTime: 39.9 seconds RetCode: 0 Status: OK PackageFile: MOFAdata_1.23.0.tar.gz PackageFileSize: 44.23 MiB