Package: M3DExampleData Version: 1.33.0 Command: /home/biocbuild/bbs-3.21-bioc/R/bin/R CMD check --install=check:M3DExampleData.install-out.txt --library=/home/biocbuild/bbs-3.21-bioc/R/site-library --timings M3DExampleData_1.33.0.tar.gz StartedAt: 2025-01-30 12:20:05 -0500 (Thu, 30 Jan 2025) EndedAt: 2025-01-30 12:20:17 -0500 (Thu, 30 Jan 2025) EllapsedTime: 11.6 seconds RetCode: 0 Status: WARNINGS CheckDir: M3DExampleData.Rcheck Warnings: 1