Package: KOdata Version: 1.33.0 Command: /home/biocbuild/bbs-3.21-bioc/R/bin/R CMD INSTALL KOdata StartedAt: 2025-01-30 10:55:17 -0500 (Thu, 30 Jan 2025) EndedAt: 2025-01-30 10:55:35 -0500 (Thu, 30 Jan 2025) EllapsedTime: 18.1 seconds RetCode: 0 Status: OK