Package: KOdata Version: 1.33.0 Command: /home/biocbuild/bbs-3.21-bioc/R/bin/R CMD build --keep-empty-dirs --no-resave-data KOdata StartedAt: 2025-01-30 11:25:51 -0500 (Thu, 30 Jan 2025) EndedAt: 2025-01-30 11:25:55 -0500 (Thu, 30 Jan 2025) EllapsedTime: 3.3 seconds RetCode: 0 Status: OK PackageFile: KOdata_1.33.0.tar.gz PackageFileSize: 31.77 MiB