Package: KEGGdzPathwaysGEO Version: 1.46.0 Command: /home/biocbuild/bbs-3.21-bioc/R/bin/R CMD INSTALL KEGGdzPathwaysGEO StartedAt: 2025-10-16 10:56:09 -0400 (Thu, 16 Oct 2025) EndedAt: 2025-10-16 10:56:14 -0400 (Thu, 16 Oct 2025) EllapsedTime: 4.8 seconds RetCode: 0 Status: OK