Package: JASPAR2016 Version: 1.35.0 Command: /home/biocbuild/bbs-3.21-bioc/R/bin/R CMD build --keep-empty-dirs --no-resave-data JASPAR2016 StartedAt: 2025-01-30 11:25:06 -0500 (Thu, 30 Jan 2025) EndedAt: 2025-01-30 11:25:11 -0500 (Thu, 30 Jan 2025) EllapsedTime: 5.0 seconds RetCode: 0 Status: OK PackageFile: JASPAR2016_1.35.0.tar.gz PackageFileSize: 8.715 MiB