Package: HumanAffyData Version: 1.34.0 Command: /home/biocbuild/bbs-3.21-bioc/R/bin/R CMD INSTALL HumanAffyData StartedAt: 2025-10-16 10:57:48 -0400 (Thu, 16 Oct 2025) EndedAt: 2025-10-16 10:57:56 -0400 (Thu, 16 Oct 2025) EllapsedTime: 8.9 seconds RetCode: 0 Status: OK