Package: HiCDataLymphoblast Version: 1.43.0 Maintainer: Borbala Mifsud MaintainerEmail: b.mifsud at qmul.ac.uk git_url: https://git.bioconductor.org/packages/HiCDataLymphoblast git_branch: devel git_last_commit: d2a3a4c git_last_commit_date: 2024-10-29 09:38:11 -0500 (Tue, 29 Oct 2024)