Package: HMP2Data Version: 1.22.0 Command: /home/biocbuild/bbs-3.21-bioc/R/bin/R CMD INSTALL HMP2Data StartedAt: 2025-10-09 11:01:38 -0400 (Thu, 09 Oct 2025) EndedAt: 2025-10-09 11:02:15 -0400 (Thu, 09 Oct 2025) EllapsedTime: 36.7 seconds RetCode: 0 Status: OK